BEGIN:VCALENDAR
VERSION:2.0
PRODID:-//Ambassador Christian School - ECPv6.15.20//NONSGML v1.0//EN
CALSCALE:GREGORIAN
METHOD:PUBLISH
X-WR-CALNAME:Ambassador Christian School
X-ORIGINAL-URL:https://www.ambassadorchristian.com
X-WR-CALDESC:Events for Ambassador Christian School
REFRESH-INTERVAL;VALUE=DURATION:PT1H
X-Robots-Tag:noindex
X-PUBLISHED-TTL:PT1H
BEGIN:VTIMEZONE
TZID:America/New_York
BEGIN:DAYLIGHT
TZOFFSETFROM:-0500
TZOFFSETTO:-0400
TZNAME:EDT
DTSTART:20250309T070000
END:DAYLIGHT
BEGIN:STANDARD
TZOFFSETFROM:-0400
TZOFFSETTO:-0500
TZNAME:EST
DTSTART:20251102T060000
END:STANDARD
BEGIN:DAYLIGHT
TZOFFSETFROM:-0500
TZOFFSETTO:-0400
TZNAME:EDT
DTSTART:20260308T070000
END:DAYLIGHT
BEGIN:STANDARD
TZOFFSETFROM:-0400
TZOFFSETTO:-0500
TZNAME:EST
DTSTART:20261101T060000
END:STANDARD
BEGIN:DAYLIGHT
TZOFFSETFROM:-0500
TZOFFSETTO:-0400
TZNAME:EDT
DTSTART:20270314T070000
END:DAYLIGHT
BEGIN:STANDARD
TZOFFSETFROM:-0400
TZOFFSETTO:-0500
TZNAME:EST
DTSTART:20271107T060000
END:STANDARD
END:VTIMEZONE
BEGIN:VEVENT
DTSTART;TZID=America/New_York:20260421T113000
DTEND;TZID=America/New_York:20260421T123000
DTSTAMP:20260421T003803
CREATED:20260415T123559Z
LAST-MODIFIED:20260421T043734Z
UID:10000825-1776771000-1776774600@www.ambassadorchristian.com
SUMMARY:Visit with UNC Pembroke
DESCRIPTION:Come meet the Assistant Director of Undergraduate Admissions from UNC Pembroke – Brittany Burnett
URL:https://www.ambassadorchristian.com/?tribe_events=visit-with-unc-pembroke
LOCATION:Ambassador Christian School atrium
CATEGORIES:School
END:VEVENT
BEGIN:VEVENT
DTSTART;TZID=America/New_York:20260421T114500
DTEND;TZID=America/New_York:20260421T123000
DTSTAMP:20260421T003803
CREATED:20260330T170632Z
LAST-MODIFIED:20260421T043733Z
UID:10000763-1776771900-1776774600@www.ambassadorchristian.com
SUMMARY:Visit with The University of Tennessee (Knoxville)
DESCRIPTION:Come meet our Admissions Representative Kristen Waldrup from University of Tennessee! 
URL:https://www.ambassadorchristian.com/?tribe_events=visit-with-the-university-of-tennessee-knoxville
LOCATION:Ambassador Christian School atrium
CATEGORIES:School
END:VEVENT
BEGIN:VEVENT
DTSTART;TZID=America/New_York:20260421T150000
DTEND;TZID=America/New_York:20260421T210000
DTSTAMP:20260421T003803
CREATED:20260123T163641Z
LAST-MODIFIED:20260421T043734Z
UID:10000725-1776783600-1776805200@www.ambassadorchristian.com
SUMMARY:Frozen Tech Week/Dress
DESCRIPTION:
URL:https://www.ambassadorchristian.com/?tribe_events=frozen-tech-week-dress-2
CATEGORIES:School
END:VEVENT
BEGIN:VEVENT
DTSTART;TZID=America/New_York:20260421T160000
DTEND;TZID=America/New_York:20260421T170000
DTSTAMP:20260421T003803
CREATED:20260112T021013Z
LAST-MODIFIED:20260316T142618Z
UID:10000711-1776787200-1776790800@www.ambassadorchristian.com
SUMMARY:Softball vs FHE
DESCRIPTION:
URL:https://www.ambassadorchristian.com/?tribe_events=softball-vs-fhe
CATEGORIES:Athletics
END:VEVENT
BEGIN:VEVENT
DTSTART;TZID=America/New_York:20260421T160000
DTEND;TZID=America/New_York:20260421T170000
DTSTAMP:20260421T003803
CREATED:20260112T021013Z
LAST-MODIFIED:20260421T043621Z
UID:10000712-1776787200-1776790800@www.ambassadorchristian.com
SUMMARY:Baseball vs FHE
DESCRIPTION:
URL:https://www.ambassadorchristian.com/?tribe_events=baseball-vs-fhe
CATEGORIES:Athletics
END:VEVENT
BEGIN:VEVENT
DTSTART;TZID=America/New_York:20260422T150000
DTEND;TZID=America/New_York:20260422T210000
DTSTAMP:20260421T003803
CREATED:20260123T163641Z
LAST-MODIFIED:20260421T043734Z
UID:10000726-1776870000-1776891600@www.ambassadorchristian.com
SUMMARY:Frozen Tech Week/Dress
DESCRIPTION:
URL:https://www.ambassadorchristian.com/?tribe_events=frozen-tech-week-dress-3
CATEGORIES:School
END:VEVENT
BEGIN:VEVENT
DTSTART;TZID=America/New_York:20260422T190000
DTEND;TZID=America/New_York:20260422T200000
DTSTAMP:20260421T003803
CREATED:20260112T021013Z
LAST-MODIFIED:20260421T043621Z
UID:10000713-1776884400-1776888000@www.ambassadorchristian.com
SUMMARY:Lacrosse @ Marvin Ridge
DESCRIPTION:
URL:https://www.ambassadorchristian.com/?tribe_events=lacrosse-marvin-ridge
CATEGORIES:Athletics
END:VEVENT
BEGIN:VEVENT
DTSTART;TZID=America/New_York:20260423T150000
DTEND;TZID=America/New_York:20260423T190000
DTSTAMP:20260421T003803
CREATED:20260123T163641Z
LAST-MODIFIED:20260421T043734Z
UID:10000727-1776956400-1776970800@www.ambassadorchristian.com
SUMMARY:Frozen Run-thru
DESCRIPTION:
URL:https://www.ambassadorchristian.com/?tribe_events=frozen-run-thru
CATEGORIES:School
END:VEVENT
BEGIN:VEVENT
DTSTART;TZID=America/New_York:20260423T160000
DTEND;TZID=America/New_York:20260423T170000
DTSTAMP:20260421T003803
CREATED:20260302T182842Z
LAST-MODIFIED:20260421T043621Z
UID:10000753-1776960000-1776963600@www.ambassadorchristian.com
SUMMARY:Track Meet @ Mt Island Charter
DESCRIPTION:
URL:https://www.ambassadorchristian.com/?tribe_events=track-meet-mt-island-charter-2
CATEGORIES:Athletics
END:VEVENT
BEGIN:VEVENT
DTSTART;TZID=America/New_York:20260423T160000
DTEND;TZID=America/New_York:20260423T170000
DTSTAMP:20260421T003803
CREATED:20260412T130618Z
LAST-MODIFIED:20260421T043621Z
UID:10000824-1776960000-1776963600@www.ambassadorchristian.com
SUMMARY:Mens Tennis @ CSD
DESCRIPTION:
URL:https://www.ambassadorchristian.com/?tribe_events=mens-tennis-csd
CATEGORIES:Athletics
END:VEVENT
BEGIN:VEVENT
DTSTART;TZID=America/New_York:20260423T163000
DTEND;TZID=America/New_York:20260423T173000
DTSTAMP:20260421T003803
CREATED:20260112T021013Z
LAST-MODIFIED:20260421T043621Z
UID:10000714-1776961800-1776965400@www.ambassadorchristian.com
SUMMARY:Softball @ Metrolina (4:30 pm)
DESCRIPTION:
URL:https://www.ambassadorchristian.com/?tribe_events=softball-metrolina-430-pm
CATEGORIES:Athletics
END:VEVENT
BEGIN:VEVENT
DTSTART;TZID=America/New_York:20260423T180000
DTEND;TZID=America/New_York:20260423T190000
DTSTAMP:20260421T003803
CREATED:20260112T021013Z
LAST-MODIFIED:20260421T043621Z
UID:10000715-1776967200-1776970800@www.ambassadorchristian.com
SUMMARY:Baseball @ Pro Stock Royals
DESCRIPTION:
URL:https://www.ambassadorchristian.com/?tribe_events=baseball-pro-stock-royals
CATEGORIES:Athletics
END:VEVENT
BEGIN:VEVENT
DTSTART;TZID=America/New_York:20260423T190000
DTEND;TZID=America/New_York:20260423T210000
DTSTAMP:20260421T003803
CREATED:20251204T072354Z
LAST-MODIFIED:20260123T155237Z
UID:10000649-1776970800-1776978000@www.ambassadorchristian.com
SUMMARY:Frozen jr Musical Production
DESCRIPTION:
URL:https://www.ambassadorchristian.com/?tribe_events=frozen-jr-musical-production
LOCATION:ACS Performance Hall\, 16500 Ambassador Park Dr\, Huntersville\, NC\, United States
CATEGORIES:School
GEO:35.442329;-80.896795
X-APPLE-STRUCTURED-LOCATION;VALUE=URI;X-ADDRESS=ACS Performance Hall 16500 Ambassador Park Dr Huntersville NC United States;X-APPLE-RADIUS=500;X-TITLE=16500 Ambassador Park Dr:geo:-80.896795,35.442329
END:VEVENT
BEGIN:VEVENT
DTSTART;TZID=America/New_York:20260424T180000
DTEND;TZID=America/New_York:20260424T190000
DTSTAMP:20260421T003803
CREATED:20260112T021013Z
LAST-MODIFIED:20260421T043621Z
UID:10000716-1777053600-1777057200@www.ambassadorchristian.com
SUMMARY:Softball @ Charity Christian
DESCRIPTION:
URL:https://www.ambassadorchristian.com/?tribe_events=softball-charity-christian-2
CATEGORIES:Athletics
END:VEVENT
BEGIN:VEVENT
DTSTART;TZID=America/New_York:20260424T190000
DTEND;TZID=America/New_York:20260424T210000
DTSTAMP:20260421T003803
CREATED:20251204T072354Z
LAST-MODIFIED:20260421T043734Z
UID:10000650-1777057200-1777064400@www.ambassadorchristian.com
SUMMARY:Frozen jr Musical Production
DESCRIPTION:
URL:https://www.ambassadorchristian.com/?tribe_events=frozen-jr-musical-production-2
LOCATION:ACS Performance Hall\, 16500 Ambassador Park Dr\, Huntersville\, NC\, United States
CATEGORIES:School
GEO:35.442329;-80.896795
X-APPLE-STRUCTURED-LOCATION;VALUE=URI;X-ADDRESS=ACS Performance Hall 16500 Ambassador Park Dr Huntersville NC United States;X-APPLE-RADIUS=500;X-TITLE=16500 Ambassador Park Dr:geo:-80.896795,35.442329
END:VEVENT
BEGIN:VEVENT
DTSTART;TZID=America/New_York:20260425T110000
DTEND;TZID=America/New_York:20260425T120000
DTSTAMP:20260421T003803
CREATED:20260112T021013Z
LAST-MODIFIED:20260421T043621Z
UID:10000717-1777114800-1777118400@www.ambassadorchristian.com
SUMMARY:Lacrosse @ Providence Day
DESCRIPTION:
URL:https://www.ambassadorchristian.com/?tribe_events=lacrosse-providence-day
CATEGORIES:Athletics
END:VEVENT
BEGIN:VEVENT
DTSTART;TZID=America/New_York:20260425T190000
DTEND;TZID=America/New_York:20260425T210000
DTSTAMP:20260421T003803
CREATED:20251204T072354Z
LAST-MODIFIED:20260421T043734Z
UID:10000651-1777143600-1777150800@www.ambassadorchristian.com
SUMMARY:Frozen jr Musical Production
DESCRIPTION:
URL:https://www.ambassadorchristian.com/?tribe_events=frozen-jr-musical-production-3
LOCATION:ACS Performance Hall\, 16500 Ambassador Park Dr\, Huntersville\, NC\, United States
CATEGORIES:School
GEO:35.442329;-80.896795
X-APPLE-STRUCTURED-LOCATION;VALUE=URI;X-ADDRESS=ACS Performance Hall 16500 Ambassador Park Dr Huntersville NC United States;X-APPLE-RADIUS=500;X-TITLE=16500 Ambassador Park Dr:geo:-80.896795,35.442329
END:VEVENT
BEGIN:VEVENT
DTSTART;TZID=America/New_York:20260427T180000
DTEND;TZID=America/New_York:20260427T190000
DTSTAMP:20260421T003803
CREATED:20260112T021013Z
LAST-MODIFIED:20260421T043621Z
UID:10000718-1777312800-1777316400@www.ambassadorchristian.com
SUMMARY:Girls Soccer vs Liberty Prep
DESCRIPTION:
URL:https://www.ambassadorchristian.com/?tribe_events=girls-soccer-liberty-prep-3
CATEGORIES:Athletics
END:VEVENT
BEGIN:VEVENT
DTSTART;TZID=America/New_York:20260428T121500
DTEND;TZID=America/New_York:20260428T130000
DTSTAMP:20260421T003803
CREATED:20260312T175136Z
LAST-MODIFIED:20260325T125217Z
UID:10000754-1777378500-1777381200@www.ambassadorchristian.com
SUMMARY:Visit with Mississippi State University
DESCRIPTION:Mississippi State is visiting Ambassador! Come meet one of their admissions reps and learn about this college.
URL:https://www.ambassadorchristian.com/?tribe_events=visit-with-mississippi-state-university
LOCATION:Ambassador Christian School atrium
CATEGORIES:School
END:VEVENT
BEGIN:VEVENT
DTSTART;TZID=America/New_York:20260428T181500
DTEND;TZID=America/New_York:20260428T191500
DTSTAMP:20260421T003803
CREATED:20260112T021013Z
LAST-MODIFIED:20260421T043621Z
UID:10000719-1777400100-1777403700@www.ambassadorchristian.com
SUMMARY:Baseball @ Hickory Christian
DESCRIPTION:
URL:https://www.ambassadorchristian.com/?tribe_events=baseball-hickory-christian-2
CATEGORIES:Athletics
END:VEVENT
BEGIN:VEVENT
DTSTART;TZID=America/New_York:20260429T170000
DTEND;TZID=America/New_York:20260429T180000
DTSTAMP:20260421T003803
CREATED:20260112T001123Z
LAST-MODIFIED:20260421T043621Z
UID:10000687-1777482000-1777485600@www.ambassadorchristian.com
SUMMARY:Girls Soccer @ Legion Collegiate
DESCRIPTION:
URL:https://www.ambassadorchristian.com/?tribe_events=girls-soccer-legion-collegiat
CATEGORIES:Athletics
END:VEVENT
BEGIN:VEVENT
DTSTART;TZID=America/New_York:20260429T190000
DTEND;TZID=America/New_York:20260429T200000
DTSTAMP:20260421T003803
CREATED:20260227T173859Z
LAST-MODIFIED:20260421T043622Z
UID:10000737-1777489200-1777492800@www.ambassadorchristian.com
SUMMARY:Lacrosse @ South Meck Time TBD
DESCRIPTION:
URL:https://www.ambassadorchristian.com/?tribe_events=lacrosse-south-meck-time-tbd
CATEGORIES:Athletics
END:VEVENT
BEGIN:VEVENT
DTSTART;VALUE=DATE:20260430
DTEND;VALUE=DATE:20260501
DTSTAMP:20260421T003803
CREATED:20251212T195108Z
LAST-MODIFIED:20260116T180954Z
UID:10000654-1777507200-1777593599@www.ambassadorchristian.com
SUMMARY:Chasing the Lion to Ireland Event
DESCRIPTION:
URL:https://www.ambassadorchristian.com/?tribe_events=acs-gala-chasing-the-lion-to-ireland
LOCATION:Joe Gibbs Racing\, 13415 Reese Blvd W\, Huntersville\, NC 28078\, USA
CATEGORIES:School
END:VEVENT
BEGIN:VEVENT
DTSTART;TZID=America/New_York:20260430T100000
DTEND;TZID=America/New_York:20260430T105000
DTSTAMP:20260421T003803
CREATED:20260403T005238Z
LAST-MODIFIED:20260415T134657Z
UID:10000765-1777543200-1777546200@www.ambassadorchristian.com
SUMMARY:Honors Assembly
DESCRIPTION:Join with Google Meet: https://meet.google.com/ogr-spae-fxa\nOr dial: (US) +1 401-541-5953 PIN: 223299888#\nLearn more about Meet at: https://support.google.com/a/users/answer/9282720
URL:https://www.ambassadorchristian.com/?tribe_events=honors-assembly
CATEGORIES:School
END:VEVENT
BEGIN:VEVENT
DTSTART;TZID=America/New_York:20260430T180000
DTEND;TZID=America/New_York:20260430T190000
DTSTAMP:20260421T003803
CREATED:20260112T021014Z
LAST-MODIFIED:20260120T181110Z
UID:10000721-1777572000-1777575600@www.ambassadorchristian.com
SUMMARY:Lacrosse @ Ravenscroft
DESCRIPTION:
URL:https://www.ambassadorchristian.com/?tribe_events=lacrosse-ravenscroft
CATEGORIES:Athletics
END:VEVENT
BEGIN:VEVENT
DTSTART;TZID=America/New_York:20260430T183000
DTEND;TZID=America/New_York:20260430T210000
DTSTAMP:20260421T003803
CREATED:20260116T185124Z
LAST-MODIFIED:20260421T043734Z
UID:10000722-1777573800-1777582800@www.ambassadorchristian.com
SUMMARY:The Mane Event: Chasing the Lions to Ireland
DESCRIPTION:This is a ticketed event which includes dinner\, a silent and live auction\, and will feature Coach Joe Gibbs as the keynote speaker. Visit our website under athletics for more information.
URL:https://www.ambassadorchristian.com/?tribe_events=the-mane-event-chasing-the-lions-to-ireland
LOCATION:Joe Gibbs Racing\, 13415 Reese Blvd W\, Huntersville\, NC\, United States
CATEGORIES:School
GEO:35.396632;-80.864083
X-APPLE-STRUCTURED-LOCATION;VALUE=URI;X-ADDRESS=Joe Gibbs Racing 13415 Reese Blvd W Huntersville NC United States;X-APPLE-RADIUS=500;X-TITLE=13415 Reese Blvd W:geo:-80.864083,35.396632
END:VEVENT
BEGIN:VEVENT
DTSTART;TZID=America/New_York:20260430T183000
DTEND;TZID=America/New_York:20260430T210000
DTSTAMP:20260421T003803
CREATED:20260203T185310Z
LAST-MODIFIED:20260421T043622Z
UID:10000730-1777573800-1777582800@www.ambassadorchristian.com
SUMMARY:The Mane Event Fundraiser @ JGR
DESCRIPTION:
URL:https://www.ambassadorchristian.com/?tribe_events=the-mane-event-fundraiser-jgr
CATEGORIES:Athletics
END:VEVENT
END:VCALENDAR